BEGIN:VCALENDAR
VERSION:2.0
PRODID:-//ARA - ECPv6.15.20//NONSGML v1.0//EN
CALSCALE:GREGORIAN
METHOD:PUBLISH
X-WR-CALNAME:ARA
X-ORIGINAL-URL:https://ara-bd.org
X-WR-CALDESC:Events for ARA
REFRESH-INTERVAL;VALUE=DURATION:PT1H
X-Robots-Tag:noindex
X-PUBLISHED-TTL:PT1H
BEGIN:VTIMEZONE
TZID:UTC
BEGIN:STANDARD
TZOFFSETFROM:+0000
TZOFFSETTO:+0000
TZNAME:UTC
DTSTART:20220101T000000
END:STANDARD
END:VTIMEZONE
BEGIN:VEVENT
DTSTART;TZID=UTC:20230911T080000
DTEND;TZID=UTC:20230911T170000
DTSTAMP:20260421T114909
CREATED:20230111T041119Z
LAST-MODIFIED:20251225T091056Z
UID:262-1694419200-1694451600@ara-bd.org
SUMMARY:Salinity & Iron - Arsenic free Multi - Star - Filter free Distribution Workshop.
DESCRIPTION:Salinity & Iron – Arsenic free Multi – Star – Filter free Distribution Workshop.\nImplemented by : ARA\nFund Assisted by : BNF and GIZ\, Dhaka.
URL:https://ara-bd.org/event/festival-of-architecture-and-interior/
CATEGORIES:Seminars
ATTACH;FMTTYPE=image/jpeg:https://ara-bd.org/wp-content/uploads/2023/01/Untitled-1-copy.jpg
END:VEVENT
BEGIN:VEVENT
DTSTART;TZID=UTC:20230111T080000
DTEND;TZID=UTC:20230111T170000
DTSTAMP:20260421T114909
CREATED:20230111T041010Z
LAST-MODIFIED:20251225T090429Z
UID:260-1673424000-1673456400@ara-bd.org
SUMMARY:Cultural vocal Song Event in Multi Star Filter Free Distribution Mala
DESCRIPTION:Cultural vocal Song Event in Multi Star Filter Free Distribution Mala Implemented by ARA.
URL:https://ara-bd.org/event/cultural-vocal-song/
CATEGORIES:Seminars
ATTACH;FMTTYPE=image/jpeg:https://ara-bd.org/wp-content/uploads/2023/01/Untitled-2-copy.jpg
END:VEVENT
END:VCALENDAR